BEGIN:VCALENDAR
VERSION:2.0
PRODID:-//Dr Shahina Braganza - ECPv6.15.13.1//NONSGML v1.0//EN
CALSCALE:GREGORIAN
METHOD:PUBLISH
X-WR-CALNAME:Dr Shahina Braganza
X-ORIGINAL-URL:https://shahinabraganza.com
X-WR-CALDESC:Events for Dr Shahina Braganza
REFRESH-INTERVAL;VALUE=DURATION:PT1H
X-Robots-Tag:noindex
X-PUBLISHED-TTL:PT1H
BEGIN:VTIMEZONE
TZID:Australia/Brisbane
BEGIN:STANDARD
TZOFFSETFROM:+1000
TZOFFSETTO:+1000
TZNAME:AEST
DTSTART:20160101T000000
END:STANDARD
END:VTIMEZONE
BEGIN:VTIMEZONE
TZID:Australia/Adelaide
BEGIN:STANDARD
TZOFFSETFROM:+1030
TZOFFSETTO:+0930
TZNAME:ACST
DTSTART:20170401T163000
END:STANDARD
BEGIN:DAYLIGHT
TZOFFSETFROM:+0930
TZOFFSETTO:+1030
TZNAME:ACDT
DTSTART:20170930T163000
END:DAYLIGHT
BEGIN:STANDARD
TZOFFSETFROM:+1030
TZOFFSETTO:+0930
TZNAME:ACST
DTSTART:20180331T163000
END:STANDARD
BEGIN:DAYLIGHT
TZOFFSETFROM:+0930
TZOFFSETTO:+1030
TZNAME:ACDT
DTSTART:20181006T163000
END:DAYLIGHT
BEGIN:STANDARD
TZOFFSETFROM:+1030
TZOFFSETTO:+0930
TZNAME:ACST
DTSTART:20190406T163000
END:STANDARD
BEGIN:DAYLIGHT
TZOFFSETFROM:+0930
TZOFFSETTO:+1030
TZNAME:ACDT
DTSTART:20191005T163000
END:DAYLIGHT
END:VTIMEZONE
BEGIN:VEVENT
DTSTART;TZID=Australia/Brisbane:20181015T103000
DTEND;TZID=Australia/Brisbane:20181015T113000
DTSTAMP:20260424T070621
CREATED:20181002T041807Z
LAST-MODIFIED:20181002T041807Z
UID:4685-1539599400-1539603000@shahinabraganza.com
SUMMARY:Queensland Emergency Department Strategic Advisory Panel (QEDSAP) Leadership Program – Invited speaker: Champion Teams
DESCRIPTION:A presentation aligned with the themes of the Leadership Program: understanding self\, others and team dynamics\, building productive and cohesive teams\, the neuroscience of leadership and leading with impact.
URL:https://shahinabraganza.com/event/queensland-emergency-department-strategic-advisory-panel-qedsap-leadership-program-invited-speaker-champion-teams-2/
LOCATION:Hotel Grand Chancellor\, Spring Hill\, Australia
END:VEVENT
BEGIN:VEVENT
DTSTART;TZID=Australia/Brisbane:20181011T153000
DTEND;TZID=Australia/Brisbane:20181011T170000
DTSTAMP:20260424T070621
CREATED:20181002T041934Z
LAST-MODIFIED:20181002T041934Z
UID:4687-1539271800-1539277200@shahinabraganza.com
SUMMARY:Bond University - School of Medicine - Specialist Lecture - Wellness in the Medical Profession
DESCRIPTION:Part 2 of Performance\, Resilience and Wellness – a deeper dive into strategies for enhancing individual wellness and resilience.
URL:https://shahinabraganza.com/event/bond-university-school-of-medicine-specialist-lecture-wellness-in-the-medical-profession/
LOCATION:Bond University\, 14 University Drive\, Robina\, QLD\, 4226\, Australia
END:VEVENT
BEGIN:VEVENT
DTSTART;TZID=Australia/Brisbane:20181008T120000
DTEND;TZID=Australia/Brisbane:20181008T130000
DTSTAMP:20260424T070621
CREATED:20181002T041505Z
LAST-MODIFIED:20181002T041505Z
UID:4679-1539000000-1539003600@shahinabraganza.com
SUMMARY:Queensland Emergency Department Strategic Advisory Panel (QEDSAP) Leadership Program - Invited speaker: Champion Teams
DESCRIPTION:A presentation aligned with the themes of the Leadership Program: understanding self\, others and team dynamics\, building productive and cohesive teams\, the neuroscience of leadership and leading with impact.
URL:https://shahinabraganza.com/event/queensland-emergency-department-strategic-advisory-panel-qedsap-leadership-program-invited-speaker-champion-teams/
LOCATION:Hotel Grand Chancellor\, Spring Hill\, Australia
END:VEVENT
BEGIN:VEVENT
DTSTART;VALUE=DATE:20180921
DTEND;VALUE=DATE:20180924
DTSTAMP:20260424T070621
CREATED:20180425T011358Z
LAST-MODIFIED:20180509T042222Z
UID:4551-1537488000-1537747199@shahinabraganza.com
SUMMARY:Australian and New Zealand College of Anaesthetists - Combined Special Interest Group Meeting
DESCRIPTION:Invited speaker: \nPlenary session – Team Wellness: Why it matters and how we can get started \nConcurrent session – Generational Gap: unique challenges for today’s trainees
URL:https://shahinabraganza.com/event/australian-and-new-zealand-college-of-anaesthetists-combined-special-interest-group-meeting/
LOCATION:Byron Bay
END:VEVENT
BEGIN:VEVENT
DTSTART;TZID=Australia/Brisbane:20180907T110000
DTEND;TZID=Australia/Brisbane:20180907T120000
DTSTAMP:20260424T070621
CREATED:20180615T063353Z
LAST-MODIFIED:20180615T063353Z
UID:4599-1536318000-1536321600@shahinabraganza.com
SUMMARY:Medical Deans Annual Conference - Medical Students' Health and Wellbeing
DESCRIPTION:Shahina will be a panellist on this discussion.
URL:https://shahinabraganza.com/event/medical-deans-annual-conference-medical-students-health-and-wellbeing/
LOCATION:Bond University\, 14 University Drive\, Robina\, QLD\, 4226\, Australia
END:VEVENT
BEGIN:VEVENT
DTSTART;VALUE=DATE:20180808
DTEND;VALUE=DATE:20180811
DTSTAMP:20260424T070621
CREATED:20180728T030836Z
LAST-MODIFIED:20180728T030836Z
UID:4626-1533686400-1533945599@shahinabraganza.com
SUMMARY:19th International Mental Health Conference - Parallel session - Healthy Workplaces
DESCRIPTION:A 20-min presentation on oneED: embedding a wellness program into a busy emergency department.
URL:https://shahinabraganza.com/event/19th-international-mental-health-conference-parallel-session-healthy-workplaces/
LOCATION:RACV Royal Pines Resort\, Ross Street\,\, Qld\, 4217\, Australia
END:VEVENT
BEGIN:VEVENT
DTSTART;TZID=Australia/Brisbane:20180802T140000
DTEND;TZID=Australia/Brisbane:20180802T150000
DTSTAMP:20260424T070621
CREATED:20180728T030234Z
LAST-MODIFIED:20180728T030234Z
UID:4619-1533218400-1533222000@shahinabraganza.com
SUMMARY:Royal Adelaide Hospital Emergency Department - Special Session - Reigniting a Champion Team
DESCRIPTION:A 45-minute talk\, followed by discussion\, on team dynamics.
URL:https://shahinabraganza.com/event/royal-adelaide-hospital-emergency-department-special-session-reigniting-a-champion-team/
LOCATION:Royal Adelaide Hospital\, Port Rd\, Adelaide\, SA\, 5000\, Australia
END:VEVENT
BEGIN:VEVENT
DTSTART;VALUE=DATE:20180802
DTEND;VALUE=DATE:20180804
DTSTAMP:20260424T070621
CREATED:20180319T102434Z
LAST-MODIFIED:20180728T030445Z
UID:4531-1533168000-1533340799@shahinabraganza.com
SUMMARY:EMSA Conference\, Adelaide
DESCRIPTION:The Emergency Medicine SA (EMSA) Conference is the shared vision of three emergency health professional bodies in South Australia\, namely the Australasian College for Emergency Medicine (ACEM)\, the College of Emergency Nursing Australasia (CENA) and Paramedics Australasia (PA). This year’s conference will feature Shahina Braganza and Una Harrington (emergency physician\, QEII\, Brisbane and founder of wrapem.org) delivering a pre-conference workshop on Team Wellness and Performance – translating ideas into action. Shahina is also an invited speaker\, showcasing the oneED program.
URL:https://shahinabraganza.com/event/emsa-conference-adelaide/
LOCATION:Adelaide Convention Centre
END:VEVENT
BEGIN:VEVENT
DTSTART;TZID=Australia/Brisbane:20180801T143000
DTEND;TZID=Australia/Brisbane:20180801T163000
DTSTAMP:20260424T070621
CREATED:20180728T025911Z
LAST-MODIFIED:20180728T025911Z
UID:4616-1533133800-1533141000@shahinabraganza.com
SUMMARY:Bond University - Back to Base - Performance\, Resilience and Wellness
DESCRIPTION:A 2-hour workshop to senior medical students on aspects of self-care\, including optimising performance\, and starting a discussion on making errors as well as bullying\, harassment and discrimination.
URL:https://shahinabraganza.com/event/bond-university-back-to-base-performance-resilience-and-wellness/
LOCATION:Bond University\, 14 University Drive\, Robina\, QLD\, 4226\, Australia
END:VEVENT
BEGIN:VEVENT
DTSTART;TZID=Australia/Brisbane:20180730T133000
DTEND;TZID=Australia/Brisbane:20180730T143000
DTSTAMP:20260424T070621
CREATED:20180728T025416Z
LAST-MODIFIED:20180728T025416Z
UID:4614-1532957400-1532961000@shahinabraganza.com
SUMMARY:Gold Coast Health Grand Rounds - Why Wellness
DESCRIPTION:A 45 minute presentation to the Mental Health and Specialist Services (MHSS) division on legitimising the Wellness agenda for healthcare professionals\, and a showcase of the oneED program.
URL:https://shahinabraganza.com/event/gold-coast-health-grand-rounds-why-wellness/
LOCATION:QLD
END:VEVENT
BEGIN:VEVENT
DTSTART;TZID=Australia/Brisbane:20180727T083000
DTEND;TZID=Australia/Brisbane:20180727T103000
DTSTAMP:20260424T070621
CREATED:20180728T025039Z
LAST-MODIFIED:20180728T025039Z
UID:4612-1532680200-1532687400@shahinabraganza.com
SUMMARY:Psychiatry Clinical Examination Preparation Workshop
DESCRIPTION:A 2-hour workshop that covers ECG interpretation\, general approach to short-case examination\, and demonstrations of thyroid\, cranial nerve\, limb\, cardiac and respiratory examination.
URL:https://shahinabraganza.com/event/psychiatry-clinical-examination-preparation-workshop/
LOCATION:QLD
END:VEVENT
BEGIN:VEVENT
DTSTART;TZID=Australia/Brisbane:20180726T183000
DTEND;TZID=Australia/Brisbane:20180726T210000
DTSTAMP:20260424T070621
CREATED:20180728T024823Z
LAST-MODIFIED:20180728T024823Z
UID:4609-1532629800-1532638800@shahinabraganza.com
SUMMARY:Resilient Minds - Medical Students' Society Bond University
DESCRIPTION:A short talk on why the wellness agenda is increasingly imperative to address\, unique challenges for the current generation of medical students and junior doctors\, and where we might start to seek a solution.
URL:https://shahinabraganza.com/event/resilient-minds-medical-students-society-bond-university/
LOCATION:Bond University\, 14 University Drive\, Robina\, QLD\, 4226\, Australia
END:VEVENT
BEGIN:VEVENT
DTSTART;TZID=Australia/Brisbane:20180626T150000
DTEND;TZID=Australia/Brisbane:20180626T180000
DTSTAMP:20260424T070621
CREATED:20180615T062223Z
LAST-MODIFIED:20180616T111304Z
UID:4596-1530025200-1530036000@shahinabraganza.com
SUMMARY:Inter-faculty Health Seminar
DESCRIPTION:Mental Health in Academia and Medicine.  This presentation will explore how science translates into the workplace\, with respect to the Wellness in Healthcare movement.
URL:https://shahinabraganza.com/event/inter-faculty-health-seminar/
LOCATION:University of Western Ontario\, 1151 Richmond St\, London\, ON N6A 5B9\, Canada
END:VEVENT
BEGIN:VEVENT
DTSTART;TZID=Australia/Brisbane:20180621T080000
DTEND;TZID=Australia/Brisbane:20180621T090000
DTSTAMP:20260424T070621
CREATED:20180615T061845Z
LAST-MODIFIED:20180615T061845Z
UID:4593-1529568000-1529571600@shahinabraganza.com
SUMMARY:Compassion\, Professionalism and Team Dynamics
DESCRIPTION:An exploration of the impact of compassion on healthcare delivery\, a commentary on professionalism and leadership\, and some tips on how to re-ignite a champion team.
URL:https://shahinabraganza.com/event/compassion-professionalism-and-team-dynamics/
LOCATION:London Health Sciences Centre\, 800 Commissioners Rd E\, London\, ON N6A 5W9\, Ontario\, Canada
END:VEVENT
BEGIN:VEVENT
DTSTART;TZID=Australia/Brisbane:20180619T120000
DTEND;TZID=Australia/Brisbane:20180619T130000
DTSTAMP:20260424T070621
CREATED:20180615T061430Z
LAST-MODIFIED:20180615T061431Z
UID:4591-1529409600-1529413200@shahinabraganza.com
SUMMARY:London Health Grand Rounds
DESCRIPTION:At this joint program for Oncology and Emergency Medicine\, Shahina’s presentation will explore the importance and legitimacy of the Physician (healthcare worker) Wellness agenda\, and discuss Wellness as a team construct\, presenting the oneED program.
URL:https://shahinabraganza.com/event/london-health-grand-rounds/
LOCATION:London Regional Cancer Program\, London\, ON N6A 5W9\, Canada\, Ontario\, N6A 5W9\, Canada
END:VEVENT
BEGIN:VEVENT
DTSTART;TZID=Australia/Brisbane:20180619T100000
DTEND;TZID=Australia/Brisbane:20180619T110000
DTSTAMP:20260424T070621
CREATED:20180615T061217Z
LAST-MODIFIED:20180615T061217Z
UID:4587-1529402400-1529406000@shahinabraganza.com
SUMMARY:Oncology Department Wellness Committee Meeting
DESCRIPTION:Shahina will present a short synopsis of an embedded workplace wellness program\, and then contribute to the meeting.
URL:https://shahinabraganza.com/event/oncology-department-wellness-committee-meeting/
LOCATION:London Regional Cancer Program\, London\, ON N6A 5W9\, Canada\, Ontario\, N6A 5W9\, Canada
END:VEVENT
BEGIN:VEVENT
DTSTART;VALUE=DATE:20180531
DTEND;VALUE=DATE:20180602
DTSTAMP:20260424T070621
CREATED:20180319T103105Z
LAST-MODIFIED:20180319T103105Z
UID:4537-1527724800-1527897599@shahinabraganza.com
SUMMARY:Queensland Autumn Symposium
DESCRIPTION:Shahina Braganza and Una Harrington (Emergency Physician and founder of wrapem.org) will present an interactive workshop on Wellness in Emergency Medicine – Translating ideas into action.
URL:https://shahinabraganza.com/event/queensland-autumn-symposium/
LOCATION:Brisbane Convention and Exhibition Centre
END:VEVENT
BEGIN:VEVENT
DTSTART;TZID=Australia/Brisbane:20180510T123000
DTEND;TZID=Australia/Brisbane:20180510T160000
DTSTAMP:20260424T070621
CREATED:20180425T010626Z
LAST-MODIFIED:20180425T010626Z
UID:4547-1525955400-1525968000@shahinabraganza.com
SUMMARY:Queensland Paediatric Emergency Medicine (QPEM) - Education Symposium
DESCRIPTION:A 20-minute presentation on Team Wellness and Performance – the what\, why and how of enhancing team dynamics in order to provide excellent care.
URL:https://shahinabraganza.com/event/queensland-paediatric-emergency-medicine-qpem-education-symposium/
LOCATION:Lady Cilento Children’s Hospital\, 501 Stanley St\, South Brisbane QLD 4101\, Brisbane\, Qld\, 4101\, Australia
END:VEVENT
BEGIN:VEVENT
DTSTART;TZID=Australia/Brisbane:20180322T183000
DTEND;TZID=Australia/Brisbane:20180322T220000
DTSTAMP:20260424T070621
CREATED:20171206T010229Z
LAST-MODIFIED:20171206T010229Z
UID:4448-1521743400-1521756000@shahinabraganza.com
SUMMARY:Thrive in your junior doctor years
DESCRIPTION:Shahina will be a panelist discussing a range of topics crucial in keeping yourself health\, happy and motivated during junior doctor years.
URL:https://shahinabraganza.com/event/thrive-junior-doctor-years/
LOCATION:Brisbane – venue TBA\, Brisbane\, Australia
END:VEVENT
BEGIN:VEVENT
DTSTART;TZID=Australia/Brisbane:20180223T103000
DTEND;TZID=Australia/Brisbane:20180223T123000
DTSTAMP:20260424T070621
CREATED:20180124T103400Z
LAST-MODIFIED:20180124T103400Z
UID:4485-1519381800-1519389000@shahinabraganza.com
SUMMARY:Clinical Examination Preparation Workshop for Psychiatry Trainees
DESCRIPTION:A two-hour workshop to help senior Psychiatry trainees commence their revision journey on short-case clinical examination\, ECG interpretation\, and analysis of other imaging and investigation modalities.
URL:https://shahinabraganza.com/event/clinical-examination-preparation-workshop-psychiatry-trainees/
LOCATION:Sofitel Broadbeach
END:VEVENT
BEGIN:VEVENT
DTSTART;TZID=Australia/Brisbane:20180216T150000
DTEND;TZID=Australia/Brisbane:20180216T190000
DTSTAMP:20260424T070621
CREATED:20180211T233620Z
LAST-MODIFIED:20180211T233620Z
UID:4511-1518793200-1518807600@shahinabraganza.com
SUMMARY:Compassion in Healthcare Symposium
DESCRIPTION:Invited speaker.  In healthcare\, compassion is fundamental to high-quality\, high-performing systems and drives improvement in performance\, with better health outcomes and better cost-efficiency. This is a conversation on compassion based on the worldwide Charter for Compassion.
URL:https://shahinabraganza.com/event/compassion-healthcare-symposium/
LOCATION:Bond University\, 14 University Drive\, Robina\, QLD\, 4226\, Australia
END:VEVENT
BEGIN:VEVENT
DTSTART;TZID=Australia/Brisbane:20180215T180000
DTEND;TZID=Australia/Brisbane:20180215T200000
DTSTAMP:20260424T070621
CREATED:20180124T103811Z
LAST-MODIFIED:20180129T132724Z
UID:4491-1518717600-1518724800@shahinabraganza.com
SUMMARY:Wellness in Physicians - no longer "just the soft stuff"
DESCRIPTION:Invited speaker.  A 20-minute presentation on the validity and legitimacy of the wellness agenda for healthcare workers.  Wellness is important\, not just in its own right\, but because it affects our clinical performance\, individually and collectively.
URL:https://shahinabraganza.com/event/wellness-in-physicians-no-long-just-the-soft-stuff/
LOCATION:Mercure Carrara
END:VEVENT
BEGIN:VEVENT
DTSTART;TZID=Australia/Brisbane:20180119T130000
DTEND;TZID=Australia/Brisbane:20180119T133000
DTSTAMP:20260424T070621
CREATED:20171206T005433Z
LAST-MODIFIED:20171206T005433Z
UID:4445-1516366800-1516368600@shahinabraganza.com
SUMMARY:Thriving in your intern year
DESCRIPTION:Shahina will address 90 new interns joining Gold Coast Health for 2018\, and share some insights and reflections on how to optimise wellbeing and performance in the early stage of being a medical professional.
URL:https://shahinabraganza.com/event/thriving-intern-year/
LOCATION:Gold Coast University Hospital\, 1 Hospital Blvd\, Southport\, QLD\, 4215\, Australia
END:VEVENT
BEGIN:VEVENT
DTSTART;TZID=Australia/Brisbane:20171222T073000
DTEND;TZID=Australia/Brisbane:20171222T083000
DTSTAMP:20260424T070621
CREATED:20171206T005218Z
LAST-MODIFIED:20171206T005218Z
UID:4443-1513927800-1513931400@shahinabraganza.com
SUMMARY:Professionalism\, Leadership and Wellbeing in Critical Care Medicine
DESCRIPTION:Shahina will deliver a 45-minute presentation on how the attributes of wellbeing and professionalism convert into performance in healthcare.
URL:https://shahinabraganza.com/event/professionalism-leadership-wellbeing-critical-care-medicine/
LOCATION:Gold Coast University Hospital\, 1 Hospital Blvd\, Southport\, QLD\, 4215\, Australia
END:VEVENT
BEGIN:VEVENT
DTSTART;VALUE=DATE:20171211
DTEND;VALUE=DATE:20171216
DTSTAMP:20260424T070621
CREATED:20171206T004946Z
LAST-MODIFIED:20171206T004946Z
UID:4438-1512950400-1513382399@shahinabraganza.com
SUMMARY:Berkeley Executive Education
DESCRIPTION:International Study Trip – Chief Happiness and Positivity Officers Program \nShahina will be part of a Queensland Public Service showcase\, conducting a workshop on the oneED program as an example of a successfully embedded workplace wellness program. \n“There is a clear science behind happiness and they are applying what they learn as they go\,” said Salvemini. “Happiness at work is attainable—and our faculty members are helping these workers to become leaders who are more engaged with their colleagues and\, ultimately\, more satisfied at their jobs.”- Andrea Salvemini\, director of business development for UC Berkeley Executive Education. \nUC Berkeley Executive Education Partners with United Arab Emirates to Create Happier Workers
URL:https://shahinabraganza.com/event/berkeley-executive-education/
LOCATION:Sydney CBD\, NSW\, Australia
END:VEVENT
BEGIN:VEVENT
DTSTART;TZID=Australia/Brisbane:20171207T090000
DTEND;TZID=Australia/Brisbane:20171207T123000
DTSTAMP:20260424T070621
CREATED:20171206T004139Z
LAST-MODIFIED:20171206T004139Z
UID:4435-1512637200-1512649800@shahinabraganza.com
SUMMARY:Trauma Forum: Futility/Palliation in Trauma
DESCRIPTION:Panelist on discussion session
URL:https://shahinabraganza.com/event/trauma-forum-futility-palliation-trauma/
LOCATION:Gold Coast University Hospital\, 1 Hospital Blvd\, Southport\, QLD\, 4215\, Australia
END:VEVENT
BEGIN:VEVENT
DTSTART;TZID=Australia/Brisbane:20171128T080000
DTEND;TZID=Australia/Brisbane:20171130T170000
DTSTAMP:20260424T070621
CREATED:20171010T012426Z
LAST-MODIFIED:20171010T012426Z
UID:4389-1511856000-1512061200@shahinabraganza.com
SUMMARY:Gold Coast Health Research Showcase Week
DESCRIPTION:Shahina will facilitate a panel discussion on Tuesday: Resilience and Wellbeing in Healthcare.
URL:https://shahinabraganza.com/event/gold-coast-health-research-showcase-week/
LOCATION:Gold Coast University Hospital\, 1 Hospital Blvd\, Southport\, QLD\, 4215\, Australia
END:VEVENT
BEGIN:VEVENT
DTSTART;TZID=Australia/Brisbane:20171120T080000
DTEND;TZID=Australia/Brisbane:20171123T170000
DTSTAMP:20260424T070621
CREATED:20171010T012154Z
LAST-MODIFIED:20171010T012154Z
UID:4382-1511164800-1511456400@shahinabraganza.com
SUMMARY:ACEM Annual Scientific Meeting
DESCRIPTION:Shahina will facilitate the panel discussion at the Thursday Plenary Session: Wellbeing in Emergency Medicine – Thriving\, not surviving. \nLater that morning\, Shahina will showcase the oneED Gold Coast Health ED wellness project.
URL:https://shahinabraganza.com/event/acem-annual-scientific-meeting/
LOCATION:International Convention Centre\, Sydney
END:VEVENT
BEGIN:VEVENT
DTSTART;VALUE=DATE:20171027
DTEND;VALUE=DATE:20171028
DTSTAMP:20260424T070621
CREATED:20170630T062210Z
LAST-MODIFIED:20170809T103236Z
UID:3954-1509062400-1509148799@shahinabraganza.com
SUMMARY:PAC 2017 Conference
DESCRIPTION:The APLS Paediatric Acute Care (PAC) Conference runs from 26-28 October 2017. \nDr Braganza is an invited speaker for the Wellness\, Resilience and Performance workshop. \nAudience: conference delegates
URL:https://shahinabraganza.com/event/pac-2017-conference/
LOCATION:Marriott Resort & Spa\, 158 Ferny Avenue\, Surfers Paradise\, QLD\, Australia
END:VEVENT
BEGIN:VEVENT
DTSTART;VALUE=DATE:20170925
DTEND;VALUE=DATE:20170926
DTSTAMP:20260424T070621
CREATED:20170727T011852Z
LAST-MODIFIED:20170727T012151Z
UID:4283-1506297600-1506383999@shahinabraganza.com
SUMMARY:Back-to-base: Performance\, Resilience & Wellness
DESCRIPTION:A Back-to-base session for Year 5 medical students on Performance\, Resilience and Wellness. \nWellness matters\, not just in its own right\, but because it affects performance. This interactive session will invited students to reflect on these themes\, and introduce them to some strategies to enhance their wellness and performance\, personally and professionally\, and to add these to their personal tool kit.
URL:https://shahinabraganza.com/event/back-to-base-performance-resilience-wellness/
LOCATION:Bond University\, 14 University Drive\, Robina\, QLD\, 4226\, Australia
END:VEVENT
END:VCALENDAR