BEGIN:VCALENDAR
VERSION:2.0
PRODID:-//Dr Shahina Braganza - ECPv6.15.13.1//NONSGML v1.0//EN
CALSCALE:GREGORIAN
METHOD:PUBLISH
X-ORIGINAL-URL:https://shahinabraganza.com
X-WR-CALDESC:Events for Dr Shahina Braganza
REFRESH-INTERVAL;VALUE=DURATION:PT1H
X-Robots-Tag:noindex
X-PUBLISHED-TTL:PT1H
BEGIN:VTIMEZONE
TZID:Australia/Brisbane
BEGIN:STANDARD
TZOFFSETFROM:+1000
TZOFFSETTO:+1000
TZNAME:AEST
DTSTART:20180101T000000
END:STANDARD
END:VTIMEZONE
BEGIN:VEVENT
DTSTART;TZID=Australia/Brisbane:20220724T080000
DTEND;TZID=Australia/Brisbane:20220724T170000
DTSTAMP:20260424T024602
CREATED:20220724T031127Z
LAST-MODIFIED:20220724T031127Z
UID:6295-1658649600-1658682000@shahinabraganza.com
SUMMARY:Don't Forget The Bubbles WRaPEM Concurrent Session
DESCRIPTION:Invited Speaker: Clinician Wellness – Taking Your Team Along
URL:https://shahinabraganza.com/event/dont-forget-the-bubbles-wrapem-concurrent-session/
LOCATION:Brisbane Convention and Exhibition Centre
END:VEVENT
BEGIN:VEVENT
DTSTART;TZID=Australia/Brisbane:20220722T180000
DTEND;TZID=Australia/Brisbane:20220722T210000
DTSTAMP:20260424T024602
CREATED:20220724T100826Z
LAST-MODIFIED:20220724T100826Z
UID:6303-1658512800-1658523600@shahinabraganza.com
SUMMARY:AMA Junior Doctor Series - Navigating the transition from student to intern and beyond
DESCRIPTION:Invited keynote speaker at Qld Medical Students’ Council (QMSC) event. Read the transcript related to this presentation in the blog.
URL:https://shahinabraganza.com/event/ama-junior-doctor-series-navigating-the-transition-from-student-to-intern-and-beyond/
LOCATION:Griffith University\, Qld\, Australia
END:VEVENT
BEGIN:VEVENT
DTSTART;TZID=Australia/Brisbane:20220625T080000
DTEND;TZID=Australia/Brisbane:20220625T170000
DTSTAMP:20260424T024602
CREATED:20220724T030522Z
LAST-MODIFIED:20220724T083653Z
UID:6289-1656144000-1656176400@shahinabraganza.com
SUMMARY:21st International Conference on Emergency Medicine (ICEM) Melbourne
DESCRIPTION:Invited Panel Chair \nCoping as Clinicians through Covid and Beyond – Across the Globe \nPanelists: \nSimon Judkins (Australia) \nJohanne Egan (Aotearoa NZ) \nAl’ai Alvarez (USA) \nKatherine Henderson (UK) \nMulinda Nyirenda (Malawi) \nMakamu Sebakeng (Botswana) \n 
URL:https://shahinabraganza.com/event/21st-international-conference-on-emergency-medicine-icem-melbourne/
LOCATION:Melbourne Convention and Exhibition Centre
END:VEVENT
BEGIN:VEVENT
DTSTART;TZID=Australia/Brisbane:20220618T140000
DTEND;TZID=Australia/Brisbane:20230618T150000
DTSTAMP:20260424T024602
CREATED:20230908T070155Z
LAST-MODIFIED:20230908T070155Z
UID:8186-1655560800-1687100400@shahinabraganza.com
SUMMARY:Coping as clinicians through COVID and beyond – global perspectives
DESCRIPTION:Invited panel chair with a panel consisting of Emergency Physicians from Australia\, New Zealand\, USA\, UK\, Malawi and Botswana\, discussing the commonalities and the differences in the experiences of clinicians during the pandemic.
URL:https://shahinabraganza.com/event/coping-as-clinicians-through-covid-and-beyond-global-perspectives/
LOCATION:Melbourne Convention and Exhibition Centre
END:VEVENT
BEGIN:VEVENT
DTSTART;VALUE=DATE:20220606
DTEND;VALUE=DATE:20220607
DTSTAMP:20260424T024602
CREATED:20230908T071148Z
LAST-MODIFIED:20230908T071148Z
UID:8188-1654473600-1654559999@shahinabraganza.com
SUMMARY:3D - Dementia\, Delirium\, Depression
DESCRIPTION:Invited Chair for Panel Discussion: 3D – Dementia\, Delirium\, Depression at the Geriatric Emergency Medicine Seminar (GEMSEM) Gold Conference on the 360 degree care of the older person.\nPanellists consisted of a social worker\, occupational therapist\, geriatrician\, old age psychiatrist\, and a carer and advocate.
URL:https://shahinabraganza.com/event/3d-dementia-delirium-depression/
LOCATION:Seaworld Nara Resort\, Sea World Drive\, Main Beach\, Queensland\, 4217\, Australia
END:VEVENT
BEGIN:VEVENT
DTSTART;TZID=Australia/Brisbane:20220430T080000
DTEND;TZID=Australia/Brisbane:20220502T170000
DTSTAMP:20260424T024602
CREATED:20230908T071346Z
LAST-MODIFIED:20230908T071346Z
UID:8191-1651305600-1651510800@shahinabraganza.com
SUMMARY:EMCore - Invited speaker
DESCRIPTION:Invited speaker for EMCore\, a conference for Emergency Medicine clinicians working across the spectrum of EM practice all over Australia. \nTalks: \nThe Art and Science of Compassion in EM\n\nNavigating the Interface: What I learned from my time on the Hospital Executive floor
URL:https://shahinabraganza.com/event/emcore-invited-speaker/
LOCATION:Marriott Resort & Spa\, 158 Ferny Avenue\, Surfers Paradise\, QLD\, Australia
END:VEVENT
BEGIN:VEVENT
DTSTART;VALUE=DATE:20220430
DTEND;VALUE=DATE:20220503
DTSTAMP:20260424T024602
CREATED:20220724T025933Z
LAST-MODIFIED:20220724T025933Z
UID:6285-1651276800-1651535999@shahinabraganza.com
SUMMARY:EM Core Gold Coast 2022
DESCRIPTION:Invited speaker: \nThe Art and Science of Compassion in Healthcare \nNavigation the Interface – between Clinician and Administrator \n 
URL:https://shahinabraganza.com/event/em-core-gold-coast-2022/
LOCATION:Marriott Resort & Spa\, 158 Ferny Avenue\, Surfers Paradise\, QLD\, Australia
END:VEVENT
BEGIN:VEVENT
DTSTART;TZID=Australia/Brisbane:20220426T120000
DTEND;TZID=Australia/Brisbane:20220426T130000
DTSTAMP:20260424T024602
CREATED:20220724T025422Z
LAST-MODIFIED:20220724T025422Z
UID:6283-1650974400-1650978000@shahinabraganza.com
SUMMARY:Gold Coast Health Faculty Education Program
DESCRIPTION:A new intern orientation session that covers Wellness\, Professionalism and Performance with three tips to get started: \n1. You got this! \n2. Shore up your supports \n3. When able\, share vulnerability
URL:https://shahinabraganza.com/event/gold-coast-health-faculty-education-program/
LOCATION:Gold Coast University Hospital\, 1 Hospital Blvd\, Southport\, QLD\, 4215\, Australia
END:VEVENT
BEGIN:VEVENT
DTSTART;TZID=Australia/Brisbane:20220331T180000
DTEND;TZID=Australia/Brisbane:20220331T203000
DTSTAMP:20260424T024602
CREATED:20230908T072545Z
LAST-MODIFIED:20230908T072545Z
UID:8202-1648749600-1648758600@shahinabraganza.com
SUMMARY:Keynote speaker - "One Stethescope; One Pen" - GCH Careers Night
DESCRIPTION:Keynote presentation “One stethoscope; one pen – two different career paths\, one enduring friendship”. A discussion between Shahina and her close friend and colleague\, Intensivist and Emergency Physician Dr Audra Gedmintas.
URL:https://shahinabraganza.com/event/keynote-speaker-one-stethescope-one-pen-gch-careers-night/
LOCATION:Gold Coast University Hospital\, 1 Hospital Blvd\, Southport\, QLD\, 4215\, Australia
END:VEVENT
BEGIN:VEVENT
DTSTART;TZID=Australia/Brisbane:20211104T150000
DTEND;TZID=Australia/Brisbane:20211104T160000
DTSTAMP:20260424T024602
CREATED:20230908T065717Z
LAST-MODIFIED:20230908T065717Z
UID:8182-1636038000-1636041600@shahinabraganza.com
SUMMARY:Wellness in the time of Covid
DESCRIPTION:A 20-minute presentation on clinician wellness during the Pandemic\, especially in the context of critical care\, including Emergency Departments and Intensive Care Units.
URL:https://shahinabraganza.com/event/wellness-in-the-time-of-covid/
LOCATION:Virtual platform – national\, Australia
END:VEVENT
BEGIN:VEVENT
DTSTART;TZID=Australia/Brisbane:20210303T180000
DTEND;TZID=Australia/Brisbane:20210303T190000
DTSTAMP:20260424T024602
CREATED:20230908T062313Z
LAST-MODIFIED:20230908T062313Z
UID:8170-1614794400-1614798000@shahinabraganza.com
SUMMARY:Kindness - why is it important\, COVID and beyond?
DESCRIPTION:A 30-minute talk delivered to the Royal Australian College of Medical Administrators (RACMA) on why Kindness is not just good manners – it’s a smart approach to excellent performance.
URL:https://shahinabraganza.com/event/kindness-why-is-it-important-covid-and-beyond/
LOCATION:Virtual platform – international
END:VEVENT
BEGIN:VEVENT
DTSTART;TZID=Australia/Brisbane:20200823T080000
DTEND;TZID=Australia/Brisbane:20200827T170000
DTSTAMP:20260424T024602
CREATED:20200126T040236Z
LAST-MODIFIED:20200804T092727Z
UID:5140-1598169600-1598547600@shahinabraganza.com
SUMMARY:Don't forget the bubbles
DESCRIPTION:Shahina is part of the WrapEM team presenting a pre-conference workshop and a concurrent session on Wellness at Work. Details to follow.
URL:https://shahinabraganza.com/event/dont-forget-the-bubbles/
LOCATION:Brisbane Convention and Exhibition Centre
END:VEVENT
BEGIN:VEVENT
DTSTART;VALUE=DATE:20200423
DTEND;VALUE=DATE:20200424
DTSTAMP:20260424T024602
CREATED:20200126T035420Z
LAST-MODIFIED:20200315T031815Z
UID:5136-1587600000-1587686399@shahinabraganza.com
SUMMARY:SUSPENDED: Health Care Safety & Security Symposium
DESCRIPTION:Keynote speaker: Health Care Psychological Safety – Why\, What and How? \nA Queensland Health event led by the Queensland Occupational Violence Strategy Unit.
URL:https://shahinabraganza.com/event/health-care-safety-security-symposium/
LOCATION:QLD
END:VEVENT
BEGIN:VEVENT
DTSTART;TZID=Australia/Brisbane:20200313T180000
DTEND;TZID=Australia/Brisbane:20200313T200000
DTSTAMP:20260424T024602
CREATED:20200126T034033Z
LAST-MODIFIED:20200126T034121Z
UID:5131-1584122400-1584129600@shahinabraganza.com
SUMMARY:Bond University Critical Care Society - "Women in Critical Care"
DESCRIPTION:Invited panelist on a forum discussing being a woman in Critical Care Medicine.
URL:https://shahinabraganza.com/event/bond-university-critical-care-society-women-in-critical-care/
LOCATION:Bond University\, 14 University Drive\, Robina\, QLD\, 4226\, Australia
END:VEVENT
BEGIN:VEVENT
DTSTART;TZID=Australia/Brisbane:20200113T090000
DTEND;TZID=Australia/Brisbane:20200113T100000
DTSTAMP:20260424T024602
CREATED:20200126T033132Z
LAST-MODIFIED:20200126T033132Z
UID:5126-1578906000-1578909600@shahinabraganza.com
SUMMARY:"The soft stuff"/The best job in the world
DESCRIPTION:A “welcome to internship” presentation covering the importance of wellness for optimum performance and three keys messages: \n1. It’s okay to struggle \n2. Build your supports \n3. Share vulnerability
URL:https://shahinabraganza.com/event/the-soft-stuff-the-best-job-in-the-world/
LOCATION:Gold Coast University Hospital\, 1 Hospital Blvd\, Southport\, QLD\, 4215\, Australia
END:VEVENT
BEGIN:VEVENT
DTSTART;TZID=Australia/Brisbane:20200110T100000
DTEND;TZID=Australia/Brisbane:20200110T103000
DTSTAMP:20260424T024602
CREATED:20200126T032909Z
LAST-MODIFIED:20200126T032909Z
UID:5124-1578650400-1578652200@shahinabraganza.com
SUMMARY:The Hybrid Life: Balancing work and self care as a student
DESCRIPTION:A presentation outlining the importance of wellness\, the threats and challenges for medical students\, and some tips garnered from junior doctors.
URL:https://shahinabraganza.com/event/the-hybrid-life-balancing-work-and-self-care-as-a-student/
LOCATION:Gold Coast University Hospital\, 1 Hospital Blvd\, Southport\, QLD\, 4215\, Australia
END:VEVENT
BEGIN:VEVENT
DTSTART;TZID=Australia/Brisbane:20191206T090000
DTEND;TZID=Australia/Brisbane:20191211T100000
DTSTAMP:20260424T024602
CREATED:20191211T125321Z
LAST-MODIFIED:20191211T125321Z
UID:5108-1575622800-1576058400@shahinabraganza.com
SUMMARY:AOA Undergraduate Workshop 2019 - Wellness Schmellness
DESCRIPTION:Why wellness matters when you’re working in medicine\, including when you’re starting out as an intern\, and particularly if you might be heading into a career in orthopaedics. \nFacilitated panel discussion and presentation.
URL:https://shahinabraganza.com/event/aoa-undergraduate-workshop-2019-wellness-schmellness/
LOCATION:Gold Coast University Hospital\, 1 Hospital Blvd\, Southport\, QLD\, 4215\, Australia
END:VEVENT
BEGIN:VEVENT
DTSTART;VALUE=DATE:20191121
DTEND;VALUE=DATE:20191122
DTSTAMP:20260424T024602
CREATED:20190510T215345Z
LAST-MODIFIED:20190510T215345Z
UID:4935-1574294400-1574380799@shahinabraganza.com
SUMMARY:Safer Care Victoria - Giant Steps: Towards better safer care - Invited Speaker
DESCRIPTION:A presentation on how staff care is vital for achieving patient care.
URL:https://shahinabraganza.com/event/safer-care-victoria-giant-steps-towards-better-safer-care-invited-speaker/
LOCATION:Melbourne Convention and Exhibition Centre
END:VEVENT
BEGIN:VEVENT
DTSTART;TZID=Australia/Brisbane:20191109T120000
DTEND;TZID=Australia/Brisbane:20191109T130000
DTSTAMP:20260424T024602
CREATED:20230908T062911Z
LAST-MODIFIED:20230908T065421Z
UID:8173-1573300800-1573304400@shahinabraganza.com
SUMMARY:Livin Fundraiser
DESCRIPTION:A 15-minute talk at a fund-raiser luncheon for Livin on why wellness should matter to us\, and how connection can contribute. \nLivin is a community that is an extension of family and promotes the message that It Ain’t Weak to Speak. It encourages others towards self-care and speaking up with the intent to help people to become better versions of themselves.
URL:https://shahinabraganza.com/event/livin-fundraiser/
LOCATION:Emerald Lakes\, Gold Coast
END:VEVENT
BEGIN:VEVENT
DTSTART;TZID=Australia/Brisbane:20191108T120000
DTEND;TZID=Australia/Brisbane:20191108T150000
DTSTAMP:20260424T024602
CREATED:20191104T071417Z
LAST-MODIFIED:20191104T071417Z
UID:5078-1573214400-1573225200@shahinabraganza.com
SUMMARY:Livin
DESCRIPTION:Guest speaker at a community fundraising event to raise awareness of mental health and illness.
URL:https://shahinabraganza.com/event/livin/
LOCATION:Emerald Lakes\, Gold Coast
END:VEVENT
BEGIN:VEVENT
DTSTART;VALUE=DATE:20191031
DTEND;VALUE=DATE:20191101
DTSTAMP:20260424T024602
CREATED:20191104T071631Z
LAST-MODIFIED:20191104T071631Z
UID:5082-1572480000-1572566399@shahinabraganza.com
SUMMARY:Patient Safety Forum - Sunshine Coast University Hospital
DESCRIPTION:Guest speaker exploring Team Wellness\, why it matters\, and some strategies for its promotion.
URL:https://shahinabraganza.com/event/patient-safety-forum-sunshine-coast-university-hospital/
LOCATION:Sunshine Coast University Hospital
END:VEVENT
BEGIN:VEVENT
DTSTART;VALUE=DATE:20191017
DTEND;VALUE=DATE:20191019
DTSTAMP:20260424T024602
CREATED:20190406T045345Z
LAST-MODIFIED:20190406T045345Z
UID:4912-1571270400-1571443199@shahinabraganza.com
SUMMARY:Australian Hand Therapists Association - Annual conference - Invited Speaker
DESCRIPTION:Team wellness – why it matters\, and how to get started.
URL:https://shahinabraganza.com/event/australian-hand-therapists-association-annual-conference-invited-speaker/
LOCATION:Pullman King George Square\, Brisbane\, Australia
END:VEVENT
BEGIN:VEVENT
DTSTART;TZID=Australia/Brisbane:20191005T080000
DTEND;TZID=Australia/Brisbane:20191006T170000
DTSTAMP:20260424T024602
CREATED:20190406T044848Z
LAST-MODIFIED:20190406T044848Z
UID:4908-1570262400-1570381200@shahinabraganza.com
SUMMARY:Medical Parents of Australia & New Zealand (MPANZ): Find your true north - Invited Speaker
DESCRIPTION:Eat\, Pray\, Love self-care session: “The Power of Being Ordinary”
URL:https://shahinabraganza.com/event/medical-parents-of-australia-new-zealand-mpanz-find-your-true-north-invited-speaker/
LOCATION:QT Gold Coast\, 7 Staghorn Ave\, Surfers Paradise\, QLD 4217\, Australia
END:VEVENT
BEGIN:VEVENT
DTSTART;TZID=Australia/Brisbane:20190803T080000
DTEND;TZID=Australia/Brisbane:20190804T170000
DTSTAMP:20260424T024602
CREATED:20190510T214218Z
LAST-MODIFIED:20190510T214218Z
UID:4931-1564819200-1564938000@shahinabraganza.com
SUMMARY:Creative Careers in Medicine - Invited Speaker
DESCRIPTION:A presentation on diversity within a career in a public healthcare system.
URL:https://shahinabraganza.com/event/creative-careers-in-medicine-invited-speaker/
LOCATION:QT Gold Coast\, 7 Staghorn Ave\, Surfers Paradise\, QLD 4217\, Australia
END:VEVENT
BEGIN:VEVENT
DTSTART;TZID=Australia/Brisbane:20190605T080000
DTEND;TZID=Australia/Brisbane:20190605T170000
DTSTAMP:20260424T024602
CREATED:20190406T043725Z
LAST-MODIFIED:20190406T043725Z
UID:4906-1559721600-1559754000@shahinabraganza.com
SUMMARY:Bond University – Back to Base – Performance\, Resilience and Wellness
DESCRIPTION:A 2-hour workshop to senior medical students on aspects of self-care\, including optimising performance\, and starting a discussion on making errors as well as bullying\, harassment and discrimination.
URL:https://shahinabraganza.com/event/bond-university-back-to-base-performance-resilience-and-wellness-2/
LOCATION:Bond University\, 14 University Drive\, Robina\, QLD\, 4226\, Australia
END:VEVENT
BEGIN:VEVENT
DTSTART;TZID=Australia/Brisbane:20190601T080000
DTEND;TZID=Australia/Brisbane:20190602T170000
DTSTAMP:20260424T024602
CREATED:20190406T043453Z
LAST-MODIFIED:20190406T044400Z
UID:4904-1559376000-1559494800@shahinabraganza.com
SUMMARY:EMCore - Melbourne - Wellbeing in the ED - Invited Speaker
DESCRIPTION:
URL:https://shahinabraganza.com/event/emcore-melbourne-wellbeing-in-the-ed-invited-speaker/
LOCATION:QLD
END:VEVENT
BEGIN:VEVENT
DTSTART;VALUE=DATE:20190523
DTEND;VALUE=DATE:20190525
DTSTAMP:20260424T024602
CREATED:20190406T042959Z
LAST-MODIFIED:20190406T042959Z
UID:4902-1558569600-1558742399@shahinabraganza.com
SUMMARY:ACEM Queensland Autumn Symposium - Emergency Mental Health - Challenges and Solutions - Invited Speaker
DESCRIPTION:
URL:https://shahinabraganza.com/event/acem-queensland-autumn-symposium-emergency-mental-health-challenges-and-solutions-invited-speaker/
LOCATION:Brisbane Convention and Exhibition Centre
END:VEVENT
BEGIN:VEVENT
DTSTART;TZID=Australia/Brisbane:20190522T080000
DTEND;TZID=Australia/Brisbane:20190522T170000
DTSTAMP:20260424T024602
CREATED:20190510T213354Z
LAST-MODIFIED:20190510T213354Z
UID:4927-1558512000-1558544400@shahinabraganza.com
SUMMARY:nowEM SEQ - Invited Speaker
DESCRIPTION:The inaugural meeting will include a presentation by Shahina on the art of being an ordinary woman in Emergency Medicine.
URL:https://shahinabraganza.com/event/nowem-seq-invited-speaker/
LOCATION:Story Bridge Hotel\, Brisbane
END:VEVENT
BEGIN:VEVENT
DTSTART;TZID=Australia/Brisbane:20190509T080000
DTEND;TZID=Australia/Brisbane:20190510T170000
DTSTAMP:20260424T024602
CREATED:20190510T212910Z
LAST-MODIFIED:20190510T212910Z
UID:4920-1557388800-1557507600@shahinabraganza.com
SUMMARY:Queensland Clinical Senate - Invited Opening Speaker
DESCRIPTION:The Health and Well-being of the Healthcare Workforce. A 20-minute presentation that showcases the oneED program\, discusses the philosophy and strategy behind its inception\, and lessons learned.
URL:https://shahinabraganza.com/event/queensland-clinical-senate-invited-opening-speaker/
LOCATION:Pullman King George Square\, Brisbane\, Australia
END:VEVENT
BEGIN:VEVENT
DTSTART;TZID=Australia/Brisbane:20190507T090000
DTEND;TZID=Australia/Brisbane:20190507T093000
DTSTAMP:20260424T024602
CREATED:20190406T042702Z
LAST-MODIFIED:20190406T042702Z
UID:4900-1557219600-1557221400@shahinabraganza.com
SUMMARY:The "not-so-soft" stuff - Graduate Nurse Program
DESCRIPTION:An exploration of what constitutes\, wellness\, why it matters\, what can threaten it\, and how to mitigate against struggle.
URL:https://shahinabraganza.com/event/the-not-so-soft-stuff-graduate-nurse-program-2/
LOCATION:QLD
END:VEVENT
END:VCALENDAR